BEGIN:VCALENDAR
VERSION:2.0
PRODID:-//Eventin//Event Calendar//EN
CALSCALE:GREGORIAN
METHOD:PUBLISH
BEGIN:VEVENT
UID:d7076e14b3f5542e365c5f0e7b234345@caribbeangovernancetraining.com
SUMMARY:Risk Committee Certification Program
DESCRIPTION:The Caribbean Governance Training Institute (CGTI) stands as a 
 beacon of excellence in the Caribbean region\, dedicated to fostering robus
 t governance practices across various sectors. At the heart of its mission 
 lies a commitment to equipping professionals with the knowledge and skills 
 needed to navigate the complex landscape of risk management effectively. Ce
 ntral to this endeavor is the esteemed Risk Committee Certification Program
 \, a comprehensive initiative designed to empower individuals with the expe
 rtise to safeguard organizational interests in the face of ever-evolving ri
 sks.REGISTER HERE\nSpanning over several modules\, the Risk Committee Certi
 fication Program is meticulously crafted to provide participants with a dee
 p understanding of risk governance principles\, frameworks\, and best pract
 ices. From seasoned board members to aspiring risk management professionals
 \, the program caters to a diverse audience\, fostering a collaborative lea
 rning environment enriched by the exchange of insights and experiences.\nTh
 e curriculum of the program is structured to cover a broad spectrum of topi
 cs\, ranging from the fundamentals of risk management to advanced strategie
 s for risk identification\, assessment\, and mitigation. Through interactiv
 e lectures\, case studies\, and practical exercises\, participants gain pra
 ctical insights into assessing risk appetite\, developing risk management p
 olicies\, and establishing effective risk oversight mechanisms.\nOne of the
  hallmarks of the CGTI's Risk Committee Certification Program is its emphas
 is on experiential learning. Participants have the opportunity to engage in
  immersive simulations and role-playing exercises that replicate real-world
  scenarios\, allowing them to apply theoretical concepts in a practical set
 ting. This hands-on approach not only reinforces learning but also equips p
 articipants with the confidence and competence to tackle complex risk chall
 enges with poise and precision.\nThe program places a strong emphasis on th
 e role of risk committees in organizational governance structures. Particip
 ants delve into the dynamics of effective risk committee composition\, char
 ter development\, and meeting protocols. They also explore the symbiotic re
 lationship between risk committees and other governance bodies\, such as au
 dit committees and executive management\, to ensure alignment in risk manag
 ement objectives and strategies.\nFurthermore\, the program delves into eme
 rging trends and issues shaping the risk landscape\, such as cybersecurity 
 threats\, geopolitical instability\, and climate change-related risks. Thro
 ugh thought-provoking discussions and expert-led sessions\, participants ga
 in valuable insights into anticipating and mitigating these evolving risks\
 , thereby enhancing organizational resilience and sustainability.\nThe facu
 lty members guiding the Risk Committee Certification Program are distinguis
 hed experts in the field of risk management\, hailing from academia\, indus
 try\, and regulatory bodies. Their wealth of knowledge and practical experi
 ence enriches the learning journey\, providing participants with diverse pe
 rspectives and invaluable mentorship. Moreover\, guest speakers from leadin
 g organizations share their firsthand experiences and best practices\, offe
 ring invaluable insights into real-world risk management challenges and sol
 utions.\nBeyond imparting technical expertise\, the Risk Committee Certific
 ation Program fosters critical thinking and ethical decision-making skills 
 essential for effective risk governance. Participants engage in thought-pro
 voking discussions on risk culture\, ethical dilemmas\, and stakeholder eng
 agement\, cultivating a mindset of integrity\, transparency\, and accountab
 ility in risk management practices.\nUpon successful completion of the prog
 ram\, participants earn a prestigious certification from the Caribbean Gove
 rnance Training Institute\, underscoring their proficiency in risk governan
 ce and their commitment to excellence in organizational stewardship. This c
 ertification serves as a testament to their expertise and credibility\, enh
 ancing their professional credentials and opening doors to new career oppor
 tunities and leadership roles.\nThe impact of the Risk Committee Certificat
 ion Program extends far beyond individual participants\, cascading into org
 anizations and communities across the Caribbean region. Equipped with the k
 nowledge\, skills\, and certification attained through the program\, gradua
 tes play a pivotal role in strengthening risk governance frameworks\, enhan
 cing organizational resilience\, and fostering sustainable development.\nIn
  essence\, the Risk Committee Certification Program at the Caribbean Govern
 ance Training Institute represents a transformative journey towards excelle
 nce in risk governance. By empowering individuals with the tools and insigh
 ts needed to navigate today's complex risk landscape\, the program not only
  elevates professional standards but also advances the overarching goal of 
 fostering good governance practices for the betterment of society as a whol
 e.
LOCATION:Online
DTSTAMP:20260420T154646Z
DTSTART:20260608T220000Z
DTEND:20260618T013000Z
END:VEVENT
END:VCALENDAR
