BEGIN:VCALENDAR
VERSION:2.0
PRODID:-//Eventin//Event Calendar//EN
CALSCALE:GREGORIAN
METHOD:PUBLISH
BEGIN:VEVENT
UID:569f9971b1226e25eed9c3e26f239acd@caribbeangovernancetraining.com
SUMMARY:Financial Governance Certification Program
DESCRIPTION:OverviewFinancial statements and the “accounting” to create
  them\, are the scorecards of any business. Therefore\, correctly understan
 ding financial information will help you as a board member to measure perfo
 rmance\, plan future action\, and make better business decisions. Every boa
 rd member is expected to be financially literate in the language and struct
 ure of their organization’s financialstatements. Every board member is ex
 pected to be financially literate in the language and structure of their or
 ganization’s financial statements.\nProgram Structure\nThe Financial Gove
 rnance Certification Program consists of 4 online modules of approximately 
 3.5 hours in duration with each delivered live by internationally recognize
 d financial experts. The program content is applicable to all types of orga
 nizations\, across all industry sectors and jurisdictions\, with a focus on
  Financial Statements\, 'the scorecards of any business'\, andthe “accoun
 ting” to create them. These interactive modules provide an excellent oppo
 rtunity to meet and network with other governance practitioners.
LOCATION:Online
DTSTAMP:20260424T101820Z
DTSTART:20260504T220000Z
DTEND:20260514T013000Z
END:VEVENT
END:VCALENDAR
